BEGIN:VCALENDAR
VERSION:2.0
PRODID:-//Squarespace Inc/Squarespace 6//v6//EN
BEGIN:VEVENT
UID:58ab94ffd1758e1acf0db46b@squarespace.com
DTSTAMP:20170307T005425Z
DTSTART:20170225T233000Z
DTEND:20170226T003000Z
SUMMARY:Contemporary Worship
END:VEVENT
END:VCALENDAR
