BEGIN:VCALENDAR
VERSION:2.0
PRODID:-//Squarespace Inc/Squarespace 6//v6//EN
BEGIN:VEVENT
UID:58ab94c13a0411fac3fd1334@squarespace.com
DTSTAMP:20170307T005436Z
DTSTART:20170225T220000Z
DTEND:20170225T230000Z
SUMMARY:Traditional Worship
END:VEVENT
END:VCALENDAR
