BEGIN:VCALENDAR
VERSION:2.0
PRODID:-//Squarespace Inc/Squarespace 6//v6//EN
BEGIN:VEVENT
UID:58ae3ed859cc68a3f88a8aa0@squarespace.com
DTSTAMP:20170307T005554Z
DTSTART:20170311T233000Z
DTEND:20170312T003000Z
SUMMARY:Contemporary Worship
END:VEVENT
END:VCALENDAR
