BEGIN:VCALENDAR
VERSION:2.0
PRODID:-//Squarespace Inc/Squarespace 6//v6//EN
BEGIN:VEVENT
UID:58abe9fee3df2835bc37fceb@squarespace.com
DTSTAMP:20170307T005543Z
DTSTART:20170311T220000Z
DTEND:20170311T230000Z
SUMMARY:Traditional Worship
END:VEVENT
END:VCALENDAR
