BEGIN:VCALENDAR
VERSION:2.0
PRODID:-//Squarespace Inc/Squarespace 6//v6//EN
BEGIN:VEVENT
UID:58c250795016e17d84e9f097@squarespace.com
DTSTAMP:20170317T095809Z
DTSTART:20170314T233000Z
DTEND:20170315T013000Z
SUMMARY:Ladies' Fellowship
GEO:-27.555555;152.927234
LOCATION:Bethel Room\, 45 Horizon Drive\, Middle Park\, QLD\, 4074\, Austra
 lia
END:VEVENT
END:VCALENDAR
