BEGIN:VCALENDAR
VERSION:2.0
PRODID:-//Squarespace Inc/Squarespace 6//v6//EN
BEGIN:VEVENT
UID:58ab954b2994caba1a6e31be@squarespace.com
DTSTAMP:20170307T005359Z
DTSTART:20170304T233000Z
DTEND:20170305T003000Z
SUMMARY:Contemporary Worship
END:VEVENT
END:VCALENDAR
