BEGIN:VCALENDAR
VERSION:2.0
PRODID:-//Squarespace Inc/Squarespace 6//v6//EN
BEGIN:VEVENT
UID:58ab951ce3df2835bc343772@squarespace.com
DTSTAMP:20170307T005411Z
DTSTART:20170304T220000Z
DTEND:20170304T230000Z
SUMMARY:Traditional Worship
END:VEVENT
END:VCALENDAR
