BEGIN:VCALENDAR
VERSION:2.0
PRODID:-//Squarespace Inc/Squarespace 6//v6//EN
BEGIN:VEVENT
UID:5ca0704071c10b981f038567@squarespace.com
DTSTAMP:20191125T225849Z
DTSTART:20191130T220000Z
DTEND:20191130T230000Z
SUMMARY:Traditional Worship
GEO:-27.555234;152.928276
LOCATION:Good News Lutheran Church\, 49 Horizon Drive\, Middle Park\, Austr
 alia
END:VEVENT
END:VCALENDAR
