BEGIN:VCALENDAR
VERSION:2.0
PRODID:-//Squarespace Inc/Squarespace 6//v6//EN
BEGIN:VEVENT
UID:5ca0703b6e9a7f3e80b47e19@squarespace.com
DTSTAMP:20190331T074826Z
DTSTART:20191123T220000Z
DTEND:20191123T230000Z
SUMMARY:Traditional Worship
END:VEVENT
END:VCALENDAR
