BEGIN:VCALENDAR
VERSION:2.0
PRODID:-//Squarespace Inc/Squarespace 6//v6//EN
BEGIN:VEVENT
UID:5dd2763439d8ba0c23c037fa@squarespace.com
DTSTAMP:20191125T225859Z
DTSTART:20191201T073000Z
DTEND:20191201T103000Z
SUMMARY:Advent Dinner &amp\; Tree Decorating
GEO:-27.555234;152.928276
LOCATION:Good News Lutheran Chruch\, 49 Horizon Drive\, Middle Park\, Austr
 alia
END:VEVENT
END:VCALENDAR
