BEGIN:VCALENDAR
VERSION:2.0
PRODID:-//Squarespace Inc/Squarespace 6//v6//EN
BEGIN:VEVENT
UID:5dd3bd0562cbaa29569b642f@squarespace.com
DTSTAMP:20191122T065411Z
DTSTART:20191123T230000Z
DTEND:20191123T233000Z
SUMMARY:Christmas Markets
END:VEVENT
END:VCALENDAR
