BEGIN:VCALENDAR
VERSION:2.0
PRODID:-//Squarespace Inc/Squarespace 6//v6//EN
BEGIN:VEVENT
UID:5deda7784d5f2571c8e2d4ed@squarespace.com
DTSTAMP:20191209T014642Z
DTSTART:20200327T090000Z
DTEND:20200327T113000Z
SUMMARY:Youth Collective
GEO:-27.554454;152.928179
LOCATION:Good News Lutheran Church\, 49 Horizon Drive\, Middle Park\, Austr
 alia
END:VEVENT
END:VCALENDAR
