BEGIN:VCALENDAR
VERSION:2.0
PRODID:-//Squarespace Inc/Squarespace 6//v6//EN
BEGIN:VEVENT
UID:5deda71f1704ea192029afac@squarespace.com
DTSTAMP:20191209T014520Z
DTSTART:20200214T090000Z
DTEND:20200214T113000Z
SUMMARY:Youth Collective
GEO:-27.554454;152.928179
LOCATION:Good News Lutheran Church\, 49 Horizon Drive\, Middle Park\, Austr
 alia
END:VEVENT
END:VCALENDAR
