BEGIN:VCALENDAR
VERSION:2.0
PRODID:-//Squarespace Inc/Squarespace 6//v6//EN
BEGIN:VEVENT
UID:5dd7862befd2fe59137d81da@squarespace.com
DTSTAMP:20191122T065645Z
DTSTART:20191123T230000Z
DTEND:20191124T020000Z
SUMMARY:Congregational Members Special Meeting
END:VEVENT
END:VCALENDAR
