BEGIN:VCALENDAR
VERSION:2.0
PRODID:-//Squarespace Inc/Squarespace 6//v6//EN
BEGIN:VEVENT
UID:5dd272564149017c6777a3fd@squarespace.com
DTSTAMP:20191119T054503Z
DTSTART:20191201T010000Z
DTEND:20191201T020000Z
SUMMARY:Congregational Members Annual General Meeting
GEO:-27.554454;152.928179
LOCATION:Good News Lutheran Church\, 49 Horizon Drive\, Middle Park\, 4074\
 , Australia
END:VEVENT
END:VCALENDAR
