BEGIN:VCALENDAR
VERSION:2.0
PRODID:-//Squarespace Inc/Squarespace 6//v6//EN
BEGIN:VEVENT
UID:5ca073fd971a1874e47d52f1@squarespace.com
DTSTAMP:20191125T230120Z
DTSTART:20191214T233000Z
DTEND:20191215T003000Z
SUMMARY:Contemporary Worship
GEO:-27.554454;152.928179
LOCATION:Good News Lutheran Church\, 49 Horizon Drive\, Middle Park\, Austr
 alia
END:VEVENT
END:VCALENDAR
