BEGIN:VCALENDAR
VERSION:2.0
PRODID:-//Squarespace Inc/Squarespace 6//v6//EN
BEGIN:VEVENT
UID:5ca073cdeb39313642645b62@squarespace.com
DTSTAMP:20191125T230144Z
DTSTART:20191221T220000Z
DTEND:20191221T230000Z
SUMMARY:Traditional Worship
GEO:-27.554454;152.928179
LOCATION:Good News Lutheran Church\, 49 Horizon Drive\, Middle Park\, Austr
 alia
END:VEVENT
END:VCALENDAR
