BEGIN:VCALENDAR
VERSION:2.0
PRODID:-//Squarespace Inc/Squarespace 6//v6//EN
BEGIN:VEVENT
UID:5dd26e85b9f8cf5cdf9b70bf@squarespace.com
DTSTAMP:20191125T230227Z
DTSTART:20191224T083000Z
DTEND:20191224T093000Z
SUMMARY:Christmas Eve Service
GEO:-27.554454;152.928179
LOCATION:Good News Lutheran Church\, 49 Horizon Drive\, Middle Park\, 4074\
 , Australia
END:VEVENT
END:VCALENDAR
