BEGIN:VCALENDAR
VERSION:2.0
PRODID:-//Squarespace Inc/Squarespace 6//v6//EN
BEGIN:VEVENT
UID:5ca07530971a1874e47d569f@squarespace.com
DTSTAMP:20191125T230246Z
DTSTART:20191224T223000Z
DTEND:20191224T233000Z
SUMMARY:Christmas Day Worship
GEO:-27.554454;152.928179
LOCATION:Good News Lutheran Church\, 49 Horizon Drive\, Middle Park\, Austr
 alia
END:VEVENT
END:VCALENDAR
