BEGIN:VCALENDAR
VERSION:2.0
PRODID:-//Squarespace Inc/Squarespace 6//v6//EN
BEGIN:VEVENT
UID:5ca074a0b208fcf68c1e88c3@squarespace.com
DTSTAMP:20191125T230313Z
DTSTART:20191228T233000Z
DTEND:20191229T003000Z
SUMMARY:Contemporary Worship
GEO:-27.554454;152.928179
LOCATION:Good News Lutheran Church\, 49 Horizon Drive\, Middle Park\, Austr
 alia
END:VEVENT
END:VCALENDAR
