BEGIN:VCALENDAR
VERSION:2.0
PRODID:-//Squarespace Inc/Squarespace 6//v6//EN
BEGIN:VEVENT
UID:5ca070eee4966b13f4a0e8ee@squarespace.com
DTSTAMP:20191125T225839Z
DTSTART:20191130T233000Z
DTEND:20191201T003000Z
SUMMARY:Contemporary Worship
GEO:-27.555234;152.928276
LOCATION:Good News Lutheran Church\, 49 Horizon Drive\, Middle Park\, Austr
 alia
END:VEVENT
END:VCALENDAR
