BEGIN:VCALENDAR
VERSION:2.0
PRODID:-//Squarespace Inc/Squarespace 6//v6//EN
BEGIN:VEVENT
UID:5ca070e40d92972348c4b94d@squarespace.com
DTSTAMP:20191125T230002Z
DTSTART:20191207T233000Z
DTEND:20191208T003000Z
SUMMARY:Contemporary Worship
GEO:-27.554454;152.928179
LOCATION:Good News Lutheran Church\, 49 Horizon Drive\, Middle Park\, Austr
 alia
END:VEVENT
END:VCALENDAR
