BEGIN:VCALENDAR
VERSION:2.0
PRODID:-//Squarespace Inc/Squarespace 6//v6//EN
BEGIN:VEVENT
UID:5ca07080971a1874e47d45ec@squarespace.com
DTSTAMP:20190331T082434Z
DTSTART:20191123T233000Z
DTEND:20191124T003000Z
SUMMARY:Contemporary Worship
END:VEVENT
END:VCALENDAR
