BEGIN:VCALENDAR
VERSION:2.0
PRODID:-//Squarespace Inc/Squarespace 6//v6//EN
BEGIN:VEVENT
UID:5e0e7f7ad1d8651e288288cd@squarespace.com
DTSTAMP:20200102T234120Z
DTSTART:20200125T220000Z
DTEND:20200125T230000Z
SUMMARY:Traditional Worship
GEO:-27.555234;152.928276
LOCATION:Good News Lutheran Church\, 45 Horizon Drive\, Middle Park\, Austr
 alia
END:VEVENT
END:VCALENDAR
