BEGIN:VCALENDAR
VERSION:2.0
PRODID:-//Squarespace Inc/Squarespace 6//v6//EN
BEGIN:VEVENT
UID:5ded9c2a4d5f2571c8e170f1@squarespace.com
DTSTAMP:20191209T014416Z
DTSTART:20200411T200000Z
DTEND:20200411T210000Z
SUMMARY:Easter Sunday Dawn Service
GEO:-27.555234;152.928276
LOCATION:Good News Lutheran Church\, 45 Horizon Drive\, Middle Park\, Austr
 alia
END:VEVENT
END:VCALENDAR
