BEGIN:VCALENDAR
VERSION:2.0
PRODID:-//Squarespace Inc/Squarespace 6//v6//EN
BEGIN:VEVENT
UID:5ded9baac2fab6555b26a1a4@squarespace.com
DTSTAMP:20191209T014456Z
DTSTART:20200411T233000Z
DTEND:20200412T003000Z
SUMMARY:Easter Sunday Service
GEO:-27.555234;152.928276
LOCATION:Good News Lutheran Church\, 45 Horizon Drive\, Middle Park\, Austr
 alia
END:VEVENT
END:VCALENDAR
