BEGIN:VCALENDAR
VERSION:2.0
PRODID:-//Squarespace Inc/Squarespace 6//v6//EN
BEGIN:VEVENT
UID:5ded9797c8c6fd1d1c843165@squarespace.com
DTSTAMP:20191209T014302Z
DTSTART:20200226T090000Z
DTEND:20200226T100000Z
SUMMARY:Ash Wednesday Evening Service
GEO:-27.555234;152.928276
LOCATION:Good News Lutheran Church\, 45 Horizon Drive\, Middle Park\, Austr
 alia
END:VEVENT
END:VCALENDAR
