BEGIN:VCALENDAR
VERSION:2.0
PRODID:-//Squarespace Inc/Squarespace 6//v6//EN
BEGIN:VEVENT
UID:5ded94d05704156dcb097be8@squarespace.com
DTSTAMP:20191209T014402Z
DTSTART:20200409T090000Z
DTEND:20200409T100000Z
SUMMARY:Maundy Thursday Evening Service
GEO:-27.555234;152.928276
LOCATION:Good News Lutheran Church\, 45 Horizon Drive\, Middle Park\, Austr
 alia
END:VEVENT
END:VCALENDAR
