BEGIN:VCALENDAR
VERSION:2.0
PRODID:-//Squarespace Inc/Squarespace 6//v6//EN
BEGIN:VEVENT
UID:5ded94251704ea19202767c5@squarespace.com
DTSTAMP:20191209T014251Z
DTSTART:20200222T233000Z
DTEND:20200223T003000Z
SUMMARY:Contemporary Worship
GEO:-27.555234;152.928276
LOCATION:Good News Lutheran Church\, 45 Horizon Drive\, Middle Park\, Austr
 alia
END:VEVENT
END:VCALENDAR
