BEGIN:VCALENDAR
VERSION:2.0
PRODID:-//Squarespace Inc/Squarespace 6//v6//EN
BEGIN:VEVENT
UID:5e18ff403ff3900c1360e76a@squarespace.com
DTSTAMP:20200110T224858Z
DTSTART:20200201T220000Z
DTEND:20200201T230000Z
SUMMARY:Traditional Worship
GEO:-27.555234;152.928276
LOCATION:Good News Lutheran Church\, 45 Horizon Drive\, Middle Park\, Austr
 alia
END:VEVENT
END:VCALENDAR
