BEGIN:VCALENDAR
VERSION:2.0
PRODID:-//Squarespace Inc/Squarespace 6//v6//EN
BEGIN:VEVENT
UID:5ded93bdc8c6fd1d1c83b68f@squarespace.com
DTSTAMP:20191209T014128Z
DTSTART:20200125T233000Z
DTEND:20200126T003000Z
SUMMARY:Contemporary Worship
GEO:-27.555234;152.928276
LOCATION:Good News Lutheran Church\, 45 Horizon Drive\, Middle Park\, Austr
 alia
END:VEVENT
END:VCALENDAR
