BEGIN:VCALENDAR
VERSION:2.0
PRODID:-//Squarespace Inc/Squarespace 6//v6//EN
BEGIN:VEVENT
UID:5ded90d8af06d83e3e5a1c8a@squarespace.com
DTSTAMP:20191209T014138Z
DTSTART:20200104T233000Z
DTEND:20200105T003000Z
SUMMARY:Contemporary Worship
GEO:-27.555234;152.928276
LOCATION:Good News Lutheran Church\, 45 Horizon Drive\, Middle Park\, Austr
 alia
END:VEVENT
END:VCALENDAR
